BEGIN:VCALENDAR
VERSION:2.0
PRODID:-//Musicorum - ECPv6.11.2.1//NONSGML v1.0//EN
CALSCALE:GREGORIAN
METHOD:PUBLISH
X-WR-CALNAME:Musicorum
X-ORIGINAL-URL:https://www.musicorum.be/?lang=nl
X-WR-CALDESC:Evenementen voor Musicorum
REFRESH-INTERVAL;VALUE=DURATION:PT1H
X-Robots-Tag:noindex
X-PUBLISHED-TTL:PT1H
BEGIN:VTIMEZONE
TZID:Europe/Paris
BEGIN:DAYLIGHT
TZOFFSETFROM:+0100
TZOFFSETTO:+0200
TZNAME:CEST
DTSTART:20190331T010000
END:DAYLIGHT
BEGIN:STANDARD
TZOFFSETFROM:+0200
TZOFFSETTO:+0100
TZNAME:CET
DTSTART:20191027T010000
END:STANDARD
END:VTIMEZONE
BEGIN:VEVENT
DTSTART;TZID=Europe/Paris:20190704T121500
DTEND;TZID=Europe/Paris:20190704T130000
DTSTAMP:20260424T105442
CREATED:20190622T181956Z
LAST-MODIFIED:20190702T190514Z
UID:623-1562242500-1562245200@www.musicorum.be
SUMMARY:DUO VIOOL – CELLO: Julia Pusker\, viool-  Riana Anthony\, cello
DESCRIPTION:Julia Pusker\, violon \n \nNée dans une famille de musiciens à Kecskemét en Hongrie en 1991\, Júlia Pusker étudie à l’Académie Franz Liszt de Budapest\, avant de partir à Londres où elle intègre l’Académie royale de musique et étudie sous la direction de György Pauk. Elle y obtient son master de musique avec distinction en 2016.  En tant que soliste\, Júlia accompagne fréquemment des orchestres tels que l’Orchestre du festival de Budapest\, dirigé par Iván Fischer\, ou l’Orchestre de chambre Franz Liszt\, dirigé par János Rolla. Autres temps forts de sa jeune carrière\, elle se produit avec l’Orchestre de la Philharmonie nationale hongroise\, dirigé par Zoltán Kocsis\, le Sinfonia Varsovia\, l’Orchestre symphonique MÁV\, l’Orchestre philharmonique Pannon\, le Concerto Budapest et les London Mozart Players. Elle donne des récitals et participe à des festivals et des cours de maître dans toute l’Europe\, y compris à l’IMS Prussia Cove\, aux Holland International Music Sessions\, à l’Académie de Kronberg et à l’Académie du festival de Santander. Elle se produit en solo à Flagey et au Palais royal de Bruxelles\, au Palais des Arts (MÜPA) et à la Liszt Academy de Budapest\, ainsi qu’au Prinzregententheater de Munich. En 2016\, Júlia reçoit le prix du jeune artiste Philip et Dorothy Green que lui décerne Making Music\, ce qui lui vaut de nombreux engagements dans tout le Royaume-Uni. Passionnée par la musique de chambre\, Júlia participe à la création de l’Ensemble Mirage\, qui se produit en 2016/2017 dans le cadre du programme « Young Artists » de Saint John’s Smith Square\, ainsi que dans le programme « Selected Artists » de Making Music. L’Ensemble entre en résidence à Snape Maltings et donne de multiples concerts en Angleterre. En 2013\, elle enregistre une version chambriste de la symphonie no 2 de Bruckner avec l’Ensemble des solistes de l’Académie royale\, sous la direction de Trevor Pinnock. Elle figure dans la série sur la symphonie de chambre réalisée par l’Académie royale de musique et sortie chez Linn Records. \nRécemment\, Júlia reçoit le prestigieux prix hongrois Junior Prima Primissima\, qui récompense les meilleurs jeunes musiciens hongrois. En 2010\, elle apparaît dans un film appelé « Invisible Strings – The Talentend Pusker Sisters » qui gagnera ensuite le prix de la critique hongroise pour le meilleur documentaire. Julia joue un violon Goffriller\,généreusement prêté par la Collection Michael Guttman. \nElle est artiste en résidence à la Chapelle Musicale Reine Elisabeth\, depuis 2015\, sous la direction d’Augustin Dumay \n  \nRiana Anthony\, violoncelle \n \n  \nRiana Anthony est née et a grandi à Yamagata\, au Japon. Elle a commencé à étudier le violoncelle à l’âge de neuf ans avec sa mère\, Lifen Anthony\, et la violoncelliste Kurata Sumiko. \nRiana a fait ses débuts au Honolulu Symphony à l’âge de douze ans\, peu après avoir déménagé à Hawaii\, et s’est depuis produite en tant que soliste et musicienne de chambre en Amérique du Nord\, en Europe et en Asie. En 2014\, Riana a accompagné le Shanghai City Symphony Orchestra en tant que soliste pour l’interprétation du Concerto pour violoncelle de Dvorak. Durant la même saison\, elle a effectué une tournée de récitals en Chine. Dans ce cadre\, elle a réalisé un concert solo pour les Future Masters Concert Series à l’Oriental Art Center de Shanghai. En 2016\, Riana a fait ses débuts au Kennedy Center et a donné des récitals en solo aux États-Unis\, en Chine et au Danemark. La même année\, Riana a interprété le Concerto pour violoncelle n°2 de Kabalevsky avec le Northwestern University Symphony Orchestra sous la direction du chef Victor Yampolsky. Riana a reçu une bourse de la Jerome and Elaine Nerenberg Foundation ainsi que le premier prix de l’édition 2017 du concours Samuel and Elinor Thaviu in String Performance. Riana a reçu une Fellowship de l’Aspen Music Festival et a participé à des festivals\, parmi lesquels le Rome Chamber Music Festival\, l’Amelia Island Chamber Music Festival\, la Gstaad String Academy\, le PyeongChang Music Festival et le Moritzburg Festival. Riana a obtenu son diplôme de premier cycle au Robert McDuffie Center for Strings et poursuit actuellement son Master à la Bienen School of Music de la Northwestern University avec le professeur Hans Jørgen Jensen. En septembre 2017\, elle devient artiste en résidence à la Chapelle Musicale Reine Elisabeth sous la conduite de Gary Hoffman. \nNL \nRiana Anthony\, geboren en opgegroeid in Yamagata\, Japan\, kreeg haar eerste cellolessen op 9-jarige leeftijd van haar moeder\, Lifen Anthony\, en celliste Sumiko Kurata. \nRiana debuteerde bij het toenmalige Honolulu Symphony Orchestra toen ze 12 jaar was\, kort nadat ze verhuisd was naar Hawaï\, en sindsdien treedt ze op als soliste en kamermusicus doorheen Noord-Amerika\, Europa en Azië. In 2014 mocht ze optreden met het Shanghai City Symphony Orchestra als soliste in hun vertolking van Dvoraks Celloconcerto. In datzelfde seizoen voltooide ze een recitaltournee in China\, met een solo-optreden in de Future Masters Concert Series in het Oriental Arts Center in Shanghai. In 2016 debuteerde Riana bij het Kennedy Center en gaf ze solorecitals in de VS\, China en Denemarken. Eind 2016 bracht Riana het Tweede Celloconcerto van Kabalevski ten gehore\, met het Northwestern University Symphony Orchestra\, onder leiding van maestro Victor Yampolsky. Riana beschikt over een beurs van de Jerome and Elaine Nerenberg Foundation en heeft de Eerste Prijs in de wacht gesleept van de Samuel and Elinor Thaviu String Performance Competition 2017. Riana ontving een fellowship van het Aspen Music Festival en nam deel aan festivals\, waaronder het Rome Chamber Music Festival\, Amelia Island Chamber Music Festival\, Gstaad String Academy\, PyeongChang Music Festival en het Moritzburg Festival. Riana heeft een bachelordiploma aan het Robert McDuffie Center for Strings behaald en volgt een masteropleiding aan de Northwestern University Bienen School of Music\, bij Hans Jørgen Jensen. \nSinds september 2017 is Riana artist in residence aan de Muziekkapel Koningin Elisabeth\, in de celloafdeling onder leiding van Gary Hoffman. \n  \n\nRiana Anthony\, violoncelle  \nBach     Suite No. 3 en do majeur BWV 1009(extraits) \nPrélude \nSarabande \nBourrée \nPiatti     Caprice No. 7 \n  \nJulia Pusker\, violon \nBach     Sonate No.1 en sol mineur BWV 1001 \n  \nJulia Pusker\, violon\, Riana Anthony\, violoncelle  \nBela Bartok | Hungarian Folk Melodies Sz53 \nHaendel-Halvorsen Passacaglia
URL:https://www.musicorum.be/event/duo-violon-violoncelle-julia-pusker-violon-riana-anthony-violoncelle/?lang=nl
LOCATION:Koninklijke Musea voor Schone Kunsten van België – FORUM\, Regentschapsstraat 3\, Brussel\, 1000\, Belgium
ATTACH;FMTTYPE=image/jpeg:https://www.musicorum.be/wp-content/uploads/2019/06/maxresdefault1-2.jpg
END:VEVENT
BEGIN:VEVENT
DTSTART;TZID=Europe/Paris:20190703T121500
DTEND;TZID=Europe/Paris:20190703T130000
DTSTAMP:20260424T105442
CREATED:20190622T174237Z
LAST-MODIFIED:20190627T100940Z
UID:606-1562156100-1562158800@www.musicorum.be
SUMMARY:Due di duo: Caterina Roberti & Salvatore Sclafani
DESCRIPTION:An Italian Journey \nMarco Enrico BOSSI (1861-1925): Suite de Valses\, Op. 93 :  \n\n Carezzevole\, II. Stesso andamento\, III. Mosso e con passion\, IV. Agitato\, V. Con slancio\, VI. Con dolore\, VII. Finale. Con vivacità\n\nAlfredo CASELLA (1883-1947) : Pupazzetti : \n\n Marcetta\, II. Berceuse\, III. Serenata\, IV. Notturnino\, V. Polka\n\nOttorino RESPIGHI (1879-1936): Antiche danze e arie per liuto (sélection) : \nBalletto detto Il Conte Orlando\, Villanella\, Passo mezzo e mascherada. \nFerruccio BUSONI (1886-1924) : Canti finlandesi; \n. \nDue di Duo \n \n  \nCaterina en Salvatore ontmoeten elkaar in 2013 aan het Koninklijk Conservatorium Brussel in de klas van Eliane Reyes. Caterina is zeer actief als kamermusicus en in de hedendaagse muziek. Ze behaalt een master in begeleiding en een master in piano aan het Koninklijk Conservatorium Brussel\, evenals een diploma vertaler-tolk moderne talen (Universiteit van Bologna\, Italië). Salvatore behaalt een master in piano en een master in muzikale pedagogie aan het Koninklijk Conservatorium Brussel\, evenals een diploma buitenlandse talen en literatuur (Universiteit van Palermo\, Italië). Na een intensieve studie van het repertorium voor twee piano’s\, richten Caterina en Salvatore zich recent op de literatuur voor quatre-mainsstukken. Ze treden vaak op in België en Italië. Sinds 2018 volgen ze lessen aan het Orpheus Instituut in Gent om zich verder te verdiepen in kamermuziek. Verbonden door de wens om minder gekende werken te ontdekken\, leggen ze zich vooral toe op quatre-mainsstukken uit de 20ste eeuw. Ook de interpretatie van zelden gespeelde werken uit het Italiaanse oeuvre krijgt hun aandacht. \n  \n  \nMarco Enrico Bossi (1861-1925) was een van de Italiaanse componisten van zijn tijd. die aan de basis lag van de wedergeboorte van de Italiaanse instrumentale muziek in de tweede helft van de negentiende eeuw. La Suite de Valses\, op. 93 past bij de zijn voorliefde voor de salonroman en laat duidelijk de nauwe band met de late romantiek van Brahms zien. \n  \nVoor Alfredo Casella (1883-1947) begint de heropleving van de Italiaanse muziek in de internationale culturele stroming in Parijs. In Pupazzetti vinden we het gestileerde contrapunt en de voorliefde voor de ironische en de anti-expressieve melodie van Ravel. Het thema van de marionet\, op verschillende manieren herzien door het symbolisme en expressionisme\, wordt overgenomen door Casella. Zij voegt de komische smaak toe van de maskers van de Italiaanse komedie. Nieuwe harmonische mogelijkheden worden onderzocht\, waarbij het gebruik van dissonanties tot het uiterste wordt opgedreven. \n  \nAntiche arie e danze per liuto is een verzameling van vrije transcripties uit de 16e en 17e eeuw\, geschreven voor luit. Deze werken bevatten geen filologische bedoeling. In de wens om een nieuwe impuls te geven aan de Italiaanse muziek en zich terug te trekken van het belcanto\, herontdekt Ottorino Respighi (1879-1936) deze eeuwenoude Italiaanse instrumentale traditie. \n  \nIn de muziekproductie van Ferruccio Busoni (1886-1924) is de transcriptie of het citeren van populaire motieven over het algemeen erg aanwezig. Hij componeert de Canti popolari finlandesi tijdens zijn verblijf in Finland als docent aan het Muziekinstituut van Helsinki. De volksmotieven worden ondergedompeld in een modern schrift dat dichtbij de taal van de late negentiende eeuw staat en gecombineerd wordt met het classicisme. \n  \n  \n  \n  \n  \n  \n 
URL:https://www.musicorum.be/event/due-di-duo-caterina-roberti-salvatore-sclafani/?lang=nl
LOCATION:Koninklijke Musea voor Schone Kunsten van België – Auditorium 490\, Regentschapsstraat 3\, Brussel\, 1000\, Belgique
ATTACH;FMTTYPE=image/jpeg:https://www.musicorum.be/wp-content/uploads/2019/06/34535228_173606616821381_8373847601857953792_n1.jpg
END:VEVENT
BEGIN:VEVENT
DTSTART;TZID=Europe/Paris:20190702T121500
DTEND;TZID=Europe/Paris:20190702T130000
DTSTAMP:20260424T105442
CREATED:20190622T164909Z
LAST-MODIFIED:20190627T221917Z
UID:589-1562069700-1562072400@www.musicorum.be
SUMMARY:Duo Zang – Piano / Aurore Bureau - Martin Gennen
DESCRIPTION:“L’opéra au fil du temps” \n\nHenri PURCELL  When I am laid in earth\, Didon & Enée\, Air de Didon \nWolfgang Amadeus MOZART Parto\, parto\, ma tu ben moi\, La Clemenza di Tito\, Air de Sextus \nCamille SAINT-SAËNS Mon coeur s’ouvre à ta voix\, Samson et Dalila\, Air de Dalila \nRuperto CHAPÌ  Carceleras\, Las hijas de Zebedeo\, Air de Luisa \nPietro MASCAGNI Voi lo sapete\, o mamma\, Cavalleria Rusticana\, Air de Santuzza \nIgor STRAVINSKY Nonn’ erubescite\, reges\, Oedipus rex\, Air de Jocaste \nPierre LIÉMANS et Laurence FRÈRE Mezzo \n\nAURORE BUREAU\, mezzo-oprano \n \n  \nAURORE BUREAU\, mezzo-soprano \nDe Belgische mezzo-sopraan Aurore Bureau haalde in 2016 haar diploma in zang op het Institut de Musique et Pédagogie in Namen met de hoogste onderscheiding. Ze kreeg lessen van Françoise Viatour en Elise Gäbele. Verder studeerde ze ook met Benoît Mernier\, Patrick Leterme en Daniel Thonnard op het European Vocal Department waar ze in 2018 een master in lyrische kunst haalde. Ze werkt nu samen met David Miller om haar vorming te voltooien. \nHaar repertoire omvat kerkmuziek en opera. Zetrad als soliste op o.m. de Piccola Messa solenne van Rossini en het Reqiem van Verdi.  \nZe debuteert in de Munt als koorlid in Alcina van Haendel met het orkest les Talents Lyriques en dirigent Christophe Rousset.  \nIn het Opéra Royal de Wallonie vertolkt ze de rol van Fenena in Nabuccolo in 2016. Vevolgens crëert ze een nieuwe opera voor de jeugd : Carmencita et les dragons in 2017 en 2018. In maart 2019 bekleedt ze de rol van Dame Marthe in Faust van Gounod in de Fabrique Opéra du Val-de-Loire onder de leding van Clément Joubert.  \nHaar volgende engagementen brengen ze naar Honfleur voor Dalila in Samson et Dalila van Saint-Saëns\, naar Brussel voor de Wesendonck Lieder van Wagner en naar Perpignan voor de Requiems van Mozart en Verdi.  \nMARTIN GENNEN \nMARTIN GENNEN \nMartin Gennen begon met zijn zevenste piano te spelen. Na afsluiting van de Muziekacademie van Malmedy\, neemt hij deel aan een Master Class van pianiste Juliana Steinbach. In2013 wordt hij opgenomen in de klas van Fabian Jardon aan het Institut de Musique et de Pédagogie (IMEP) in Namen. Hij wint in het zelfde jaar de tweedeprijs op de nationale wedsrijd Belfius. Naast de piano interesseert zich Marin voor zang. Sinds 2014 is hij lid van de knapenkoor van de St. Aubijn Cathedrale in Namen en van de IMEP-kamerkoor. In oktober 2016 speelt hij op het Pianofestival van het IMEP en neemt deel aan een master class gegeven door Jean-Claude Vanden Eynden. Bovendien is hij co-organisator van Musiques Emportées\, een driedaagse festival dat in de salons van het Villers huis in Malmedy plaatsvindt. Met zangeres Isabelle Jacques en zanger Olaf Bär doet hij mee aan een masterclass in De Munt. Na zijn Bachelor in piano engageert zich Martin in een gespecialiseerde Master in zangbegeleiding met Mathias Lecomte in het IMEP. In 2019 verbljft hij vijf maanden lang in de klas van Alexander Schmalcz op de Hochschule für Musik und Theater Felix Mendelssohn Bartholdy in Leipzig in het kader van het Erasmusprogramma.  \nHenri PURCELL (1659- 1695)  \nEngelse componist van barokmuziek\, wiens werk ook nu nog dikwijls wordt uitgevoerd en opgenomen. Zijn werk behoort tot het belangrijkste barokrepertoire. \n Wolfgang Amadeus MOZART (1756-1791)  \nOok componeerde hij solomuziek zoals pianosonates\, en kamermuziek\, waaronder sonates voor diverse instrumentale bezettingen en strijkkwartetten en –kwintetten. \n Camille SAINT-SAËNS (1835-1921) \nEen deel van het oeuvre van Saint-Saëns heeft repertoire gehouden\, waaronder de Derde symfonie (de Orgelsymfonie)\, de Danse macabre\, het Carnaval der dieren\, diverse soloconcerten\, veel kamermuziek en de opera Samson et Dalila. \n Ruperto Chapí LORENTE (1851– 1909)\, Villena\, Madrid\, .Spaanse componist\, in wezen zarzuelas. \n Pietro MASCAGNI (1863–1945) Livourne\, Rome.  Italiaanse componist van de belangrijkste opera van het begin van de 20e eeuw. \n Igor STRAVINSKY (1882–1971) \nRussische componist van moderne muziek\, beschouwd als een van de meest invloedrijke componisten van de twintigste eeuw. \n Pierre LIÉMANS  Pierre Liemans zijn professionele opleiding aan de Koninklijke Conservatoria van Luik\, Brussel en Bergen\, waar hij de pianodiploma’s behaalde in de kamermuziekklas van Diane Andersen. en in orgel\, evenals verschillende prijzen in begeleiding en geschriften. In 2004 won hij de eerste prijs voor compositie met de sonate voor klarinet en piano op.22 op de internationale wedstrijd T.I.M. in Rome. Dit evenement zal hem ertoe brengen om een ​​CD op te nemen met de klarinettist Jean-Luc Votano en in 2012 begon hij met het muzikale schrijven van “MINE” in samenwerking met Christophe Leurquin. \nLaurence FRÈRE Professor zang – mezzo aan Academia de musique de Quaregnon en La Bouverie. \n 
URL:https://www.musicorum.be/event/duo-chant-piano-aurore-bureau-martin-gennen/?lang=nl
LOCATION:Koninklijke Musea voor Schone Kunsten van België – Auditorium 490\, Regentschapsstraat 3\, Brussel\, 1000\, Belgique
ATTACH;FMTTYPE=image/jpeg:https://www.musicorum.be/wp-content/uploads/2019/06/la-mezzo-soprano-aurore-bureau-participe-aux-concerts-de-mazeres-lezons-et-orthez1.jpg
END:VEVENT
BEGIN:VEVENT
DTSTART;TZID=Europe/Paris:20190701T121500
DTEND;TZID=Europe/Paris:20190701T130000
DTSTAMP:20260424T105442
CREATED:20190603T122636Z
LAST-MODIFIED:20190628T072952Z
UID:540-1561983300-1561986000@www.musicorum.be
SUMMARY:Concertopening - Jean-Claude Vanden Eynden - Eliane Reyes (piano met vier handen)
DESCRIPTION:BRAHMS Valses opus 39 \nDVORAK2 Danses slaves (n° 1 opus 46-n°10 opus 72) \nBRAHMS  2 Danses Hongroises (n°1 et 5) \nRAVEL Rhapsodie espagnole : Prélude à la nuit\, Malaguena\, Habanera\, Feria \n\nJean-Claude Vanden Eynden \nJean-Claude was slechts 16 jaar toen hij laureaat werd in de internationale muziekwedstrijd Koningin Elisabeth in 1964.Sindsdien heeft hij een brillante carrière die hem naar gereputeerde festivals brengt(Prades\,Delft\, Seoul\, Stavelot) Hij werkt samen met het symfonisch orkets van sint Petersburg\, de Koninklijke Philharmonie van Londen\, het Residentie Orkest van De Haag\, Het Nationaal Orkest van België\,  l’Orchestre Philharmonique Royal de Liège \, enz …. Hij is eveneens een prachtig kamermuziek speler\, die speelt met partners van het hoogste niveau: Véronique Bogaerts\, Marie Hallynck\, Augustin Dumay\, Gérard Caussé\, Frans Helmerson\, José Van Dam. Actuellement\, il enseigne à la Chapelle Musicale Reine Elisabeth\, et  est directeur artistique du Centre Musical Eduardo Del Pueyo. \n  \n  \n  \n  \n \nZij werd eerst gevormd door haar moeder \, zij gaf haar haar eerste recital op 5 jarige leeftijd en ontvangt ditzelfde jaar de César Franck prijs.Door haar ontmoetingen met Gyorgy Cziffra wordt zij de jongste laureaat van de stichting en met Martha Argerichis \, op 14 jarige leeftijd\, wordt dit de beslissende stap naar haar leven als pianiste.Zij studeert aan het Conservatoire Royal de Bruxelles\, vervolgens aan de Muziekkapel Koningin Elisabeth bij Jean Claude Vanden Eynden\, aan de Hochschule der Künste de Berlin\, aan Mozarteum de Salzbourgaan het Lemmens instituut  in Leuven alsook aan CNSM van Parijs onder leiding van Michel Beroff\, Brigitte Engerer en Jacques Bouvierin de 3e cyclus. \nEliane Reyes is drie keer genomineerd voor de International Classical Music Awards en heeft de Octaven of Music in België voor haar hele carrière ontvangen. Een documentaire van 45 minuten over haar muzikale carrière “Young solists\, great destinies” geregisseerd door Thierry Loreau en Pierre Barré is aan haar opgedragen op de Belgische nationale televisie RTBF. Ze verschijnt ook in een documentaire over Clara Haskil op ARTE “The Mystery of the Interpreter”. Tegenwoordig geeft ze les aan het Koninklijk Conservatorium voor Muziek in Brussel en het Nationaal Conservatorium voor Muziek in Parijs. Als ereburger van haar geboortestad Verviers (België)\, werd zij de eerste Belgische pianist die het onderscheidingsteken “Ridder in de Orde van Letteren en Letteren” in Frankrijk ontving. \n  \n 
URL:https://www.musicorum.be/event/concertopening-jean-claude-vanden-eynden-eliane-reyes-piano-met-vier-handen/?lang=nl
LOCATION:Koninklijke Musea voor Schone Kunsten van België – Auditorium 490\, Regentschapsstraat 3\, Brussel\, 1000\, Belgique
ATTACH;FMTTYPE=image/jpeg:https://www.musicorum.be/wp-content/uploads/2019/04/piano.jpg
END:VEVENT
END:VCALENDAR